BEGIN:VCALENDAR
VERSION:2.0
PRODID:-//wp-events-plugin.com//7.2.3.1//EN
TZID:Europe/Prague
X-WR-TIMEZONE:Europe/Prague
BEGIN:VEVENT
UID:1772@farnostml.cz
DTSTART;TZID=Europe/Prague:20191221T133000
DTEND;TZID=Europe/Prague:20191221T163000
DTSTAMP:20191215T125820Z
URL:https://www.farnostml.cz/en/udalosti/adventni-duchovni-obnova/
SUMMARY:Adventní duchovní obnova
DESCRIPTION:Začátek je v konventní kapli\, mše svatá je v 15:30.
LOCATION:Klášter Premonstrátů\, 1\, Teplá\, Czech Republic
X-APPLE-STRUCTURED-LOCATION;VALUE=URI;X-ADDRESS=1\, Teplá\, Czech Republic
 ;X-APPLE-RADIUS=100;X-TITLE=Klášter Premonstrátů:geo:0,0
END:VEVENT
BEGIN:VTIMEZONE
TZID:Europe/Prague
X-LIC-LOCATION:Europe/Prague
BEGIN:STANDARD
DTSTART:20191027T020000
TZOFFSETFROM:+0200
TZOFFSETTO:+0100
TZNAME:CET
END:STANDARD
END:VTIMEZONE
END:VCALENDAR