BEGIN:VCALENDAR
VERSION:2.0
PRODID:-//wp-events-plugin.com//7.2.3.1//EN
TZID:Europe/Prague
X-WR-TIMEZONE:Europe/Prague
BEGIN:VEVENT
UID:1754@farnostml.cz
DTSTART;TZID=Europe/Prague:20191207T150000
DTEND;TZID=Europe/Prague:20191207T150000
DTSTAMP:20191201T121025Z
URL:https://www.farnostml.cz/en/udalosti/adventni-koncert-2/
SUMMARY:Adventní koncert
DESCRIPTION:Komorní a varhanní skladby mistrů 17.\, 18. a 20. stol.\nÚ
 činkují: Sandra Biňovcová (housle)\, Petr Čech (klarinet)\,\nLenka Č
 echová (varhany)
CATEGORIES:Koncert
LOCATION:Farní kostel Nanebevzetí Panny Marie\, Goethovo náměstí 110/3
 1\, Mariánské Lázně\, Czech Republic
X-APPLE-STRUCTURED-LOCATION;VALUE=URI;X-ADDRESS=Goethovo náměstí 110/31\
 , Mariánské Lázně\, Czech Republic;X-APPLE-RADIUS=100;X-TITLE=Farní k
 ostel Nanebevzetí Panny Marie:geo:0,0
END:VEVENT
BEGIN:VTIMEZONE
TZID:Europe/Prague
X-LIC-LOCATION:Europe/Prague
BEGIN:STANDARD
DTSTART:20191027T020000
TZOFFSETFROM:+0200
TZOFFSETTO:+0100
TZNAME:CET
END:STANDARD
END:VTIMEZONE
END:VCALENDAR