BEGIN:VCALENDAR
VERSION:2.0
PRODID:-//wp-events-plugin.com//7.2.3.1//EN
TZID:Europe/Prague
X-WR-TIMEZONE:Europe/Prague
BEGIN:VEVENT
UID:953@farnostml.cz
DTSTART;TZID=Europe/Prague:20191130T140000
DTEND;TZID=Europe/Prague:20191130T140000
DTSTAMP:20191110T112945Z
URL:https://www.farnostml.cz/en/udalosti/adventni-koncert-s-zehnanim-vencu
 /
SUMMARY:Adventní koncert s žehnáním věnců
DESCRIPTION:Účinkují žáci ZUŠ F. Chopina Mariánské Lázně.
CATEGORIES:Koncert
LOCATION:Kostel svaté Markéty\, Kostelní\, Lázně Kynžvart\, Czech Rep
 ublic
X-APPLE-STRUCTURED-LOCATION;VALUE=URI;X-ADDRESS=Kostelní\, Lázně Kynžva
 rt\, Czech Republic;X-APPLE-RADIUS=100;X-TITLE=Kostel svaté Markéty:geo:
 0,0
END:VEVENT
BEGIN:VTIMEZONE
TZID:Europe/Prague
X-LIC-LOCATION:Europe/Prague
BEGIN:STANDARD
DTSTART:20191027T020000
TZOFFSETFROM:+0200
TZOFFSETTO:+0100
TZNAME:CET
END:STANDARD
END:VTIMEZONE
END:VCALENDAR