BEGIN:VCALENDAR
VERSION:2.0
PRODID:-//wp-events-plugin.com//7.2.3.1//EN
TZID:Europe/Prague
X-WR-TIMEZONE:Europe/Prague
BEGIN:VEVENT
UID:2042@farnostml.cz
DTSTART;TZID=Europe/Prague:20201022T180000
DTEND;TZID=Europe/Prague:20201122T190000
DTSTAMP:20201115T102252Z
URL:https://www.farnostml.cz/en/event-recurring/bozska-liturgie-sv-jana-zl
 atousteho/
SUMMARY:Božská liturgie sv. Jana Zlatoústého
DESCRIPTION:Mše svatá východního obřadu sloužená v českém jazyce.\
 n\nŽivé vysílání. Účast možná pouze prostřednictvím tohoto webu
  nebo Facebooku.
CATEGORIES:Mše svatá,Východní bohoslužba
LOCATION:Kaple svatého Šarbela\, blahoslaveného Hroznaty a Karla\, Nehro
 va 26/3a\, Mariánské Lázně\, 353 01\, Czech Republic
X-APPLE-STRUCTURED-LOCATION;VALUE=URI;X-ADDRESS=Nehrova 26/3a\, Mariánské
  Lázně\, 353 01\, Czech Republic;X-APPLE-RADIUS=100;X-TITLE=Kaple svaté
 ho Šarbela\, blahoslaveného Hroznaty a Karla:geo:0,0
END:VEVENT
BEGIN:VTIMEZONE
TZID:Europe/Prague
X-LIC-LOCATION:Europe/Prague
BEGIN:DAYLIGHT
DTSTART:20200329T030000
TZOFFSETFROM:+0100
TZOFFSETTO:+0200
TZNAME:CEST
END:DAYLIGHT
BEGIN:STANDARD
DTSTART:20201025T020000
TZOFFSETFROM:+0200
TZOFFSETTO:+0100
TZNAME:CET
END:STANDARD
END:VTIMEZONE
END:VCALENDAR