BEGIN:VCALENDAR
VERSION:2.0
PRODID:-//wp-events-plugin.com//7.2.3.1//EN
TZID:Europe/Prague
X-WR-TIMEZONE:Europe/Prague
BEGIN:VEVENT
UID:6704@farnostml.cz
DTSTART;TZID=Europe/Prague:20250614T090000
DTEND;TZID=Europe/Prague:20250614T090000
DTSTAMP:20250603T122550Z
URL:https://www.farnostml.cz/en/udalosti/cyklopout-sedm-kostelu/
SUMMARY:Cyklopouť Sedm kostelů
DESCRIPTION:\n9:00 sraz: u školní jídelny\, Stará Voda9:30 start: u sk
 ály v Chodové Plané\n\n\n\nBližší informace mobil: 774 110 468 (pí 
 Procházková)\n
CATEGORIES:Pouť
LOCATION:u školní jídelny\, Stará Voda\, u školní jídelny\, Stará V
 oda\, Czech Republic
X-APPLE-STRUCTURED-LOCATION;VALUE=URI;X-ADDRESS=u školní jídelny\, Star
 á Voda\, Czech Republic;X-APPLE-RADIUS=100;X-TITLE=u školní jídelny\, 
 Stará Voda:geo:0,0
END:VEVENT
BEGIN:VTIMEZONE
TZID:Europe/Prague
X-LIC-LOCATION:Europe/Prague
BEGIN:DAYLIGHT
DTSTART:20250330T030000
TZOFFSETFROM:+0100
TZOFFSETTO:+0200
TZNAME:CEST
END:DAYLIGHT
END:VTIMEZONE
END:VCALENDAR