BEGIN:VCALENDAR
VERSION:2.0
PRODID:-//wp-events-plugin.com//7.2.3.1//EN
TZID:Europe/Prague
X-WR-TIMEZONE:Europe/Prague
BEGIN:VEVENT
UID:1845@farnostml.cz
DTSTART;TZID=Europe/Prague:20200322T090000
DTEND;TZID=Europe/Prague:20200322T100000
DTSTAMP:20200320T180037Z
URL:https://www.farnostml.cz/en/udalosti/diecezni-mse-svata-online/
SUMMARY:Diecézní mše svatá
DESCRIPTION:Otec biskup zve všechny diecézany ke společné účasti na t
 éto mši svaté. Účast možná pouze prostřednictvím internetu na web
 u biskupství nebo zde na stránce Živé vysílání.
CATEGORIES:Mše svatá
LOCATION:Kaple Salesiánského střediska mládeže\, Revoluční 151/98\, 
 Plzeň\, Czech Republic
X-APPLE-STRUCTURED-LOCATION;VALUE=URI;X-ADDRESS=Revoluční 151/98\, Plzeň
 \, Czech Republic;X-APPLE-RADIUS=100;X-TITLE=Kaple Salesiánského středi
 ska mládeže:geo:0,0
END:VEVENT
BEGIN:VTIMEZONE
TZID:Europe/Prague
X-LIC-LOCATION:Europe/Prague
BEGIN:STANDARD
DTSTART:20191027T020000
TZOFFSETFROM:+0200
TZOFFSETTO:+0100
TZNAME:CET
END:STANDARD
END:VTIMEZONE
END:VCALENDAR