BEGIN:VCALENDAR
VERSION:2.0
PRODID:-//wp-events-plugin.com//7.2.3.1//EN
TZID:Europe/Prague
X-WR-TIMEZONE:Europe/Prague
BEGIN:VEVENT
UID:5149@farnostml.cz
DTSTART;TZID=Europe/Prague:20240114T180000
DTEND;TZID=Europe/Prague:20240114T180000
DTSTAMP:20240105T184656Z
URL:https://www.farnostml.cz/en/udalosti/ekumenicka-bohosluzba-12/
SUMMARY:Ekumenická bohoslužba
DESCRIPTION:
CATEGORIES:Ekumenická bohoslužba
LOCATION:Pravoslavný chrám svatého Vladimíra\, Ruská 347\, Mariánské
  Lázně\, Czech Republic
X-APPLE-STRUCTURED-LOCATION;VALUE=URI;X-ADDRESS=Ruská 347\, Mariánské L
 ázně\, Czech Republic;X-APPLE-RADIUS=100;X-TITLE=Pravoslavný chrám sva
 tého Vladimíra:geo:0,0
END:VEVENT
BEGIN:VTIMEZONE
TZID:Europe/Prague
X-LIC-LOCATION:Europe/Prague
BEGIN:STANDARD
DTSTART:20231029T020000
TZOFFSETFROM:+0200
TZOFFSETTO:+0100
TZNAME:CET
END:STANDARD
END:VTIMEZONE
END:VCALENDAR