BEGIN:VCALENDAR
VERSION:2.0
PRODID:-//wp-events-plugin.com//7.2.3.1//EN
TZID:Europe/Prague
X-WR-TIMEZONE:Europe/Prague
BEGIN:VEVENT
UID:6628@farnostml.cz
DTSTART;TZID=Europe/Prague:20250121T180000
DTEND;TZID=Europe/Prague:20250121T180000
DTSTAMP:20250103T203803Z
URL:https://www.farnostml.cz/en/udalosti/ekumenicka-bohosluzba-16/
SUMMARY:Ekumenická bohoslužba
DESCRIPTION:
CATEGORIES:Ekumenická bohoslužba
LOCATION:Modlitebna Českobratrské církve evangelické\, Lidická 189/16\
 , Mariánské Lázně\, Czech Republic
X-APPLE-STRUCTURED-LOCATION;VALUE=URI;X-ADDRESS=Lidická 189/16\, Mariánsk
 é Lázně\, Czech Republic;X-APPLE-RADIUS=100;X-TITLE=Modlitebna Českobr
 atrské církve evangelické:geo:0,0
END:VEVENT
BEGIN:VTIMEZONE
TZID:Europe/Prague
X-LIC-LOCATION:Europe/Prague
BEGIN:STANDARD
DTSTART:20241027T020000
TZOFFSETFROM:+0200
TZOFFSETTO:+0100
TZNAME:CET
END:STANDARD
END:VTIMEZONE
END:VCALENDAR