BEGIN:VCALENDAR
VERSION:2.0
PRODID:-//wp-events-plugin.com//7.2.3.1//EN
TZID:Europe/Prague
X-WR-TIMEZONE:Europe/Prague
BEGIN:VEVENT
UID:5175@farnostml.cz
DTSTART;TZID=Europe/Prague:20240301T170000
DTEND;TZID=Europe/Prague:20240301T170000
DTSTAMP:20240226T111029Z
URL:https://www.farnostml.cz/en/udalosti/ekumenicka-bohosluzba-a-promitani
 -o-svate-zemi/
SUMMARY:Ekumenická bohoslužba a promítání o Svaté zemi
DESCRIPTION:Událost se koná v rámci Světového dne modliteb (žen)
CATEGORIES:Ekumenická bohoslužba,Modlitba,Přednáška
LOCATION:Modlitebna Českobratrské církve evangelické\, Lidická 189/16\
 , Mariánské Lázně\, Czech Republic
X-APPLE-STRUCTURED-LOCATION;VALUE=URI;X-ADDRESS=Lidická 189/16\, Mariánsk
 é Lázně\, Czech Republic;X-APPLE-RADIUS=100;X-TITLE=Modlitebna Českobr
 atrské církve evangelické:geo:0,0
END:VEVENT
BEGIN:VTIMEZONE
TZID:Europe/Prague
X-LIC-LOCATION:Europe/Prague
BEGIN:STANDARD
DTSTART:20231029T020000
TZOFFSETFROM:+0200
TZOFFSETTO:+0100
TZNAME:CET
END:STANDARD
END:VTIMEZONE
END:VCALENDAR