BEGIN:VCALENDAR
VERSION:2.0
PRODID:-//wp-events-plugin.com//7.2.3.1//EN
TZID:Europe/Prague
X-WR-TIMEZONE:Europe/Prague
BEGIN:VEVENT
UID:1824@farnostml.cz
DTSTART;TZID=Europe/Prague:20200315T101500
DTEND;TZID=Europe/Prague:20200315T110000
DTSTAMP:20200317T153415Z
URL:https://www.farnostml.cz/en/udalosti/farni-mse-svata-2020-03-15/
SUMMARY:Farní mše svatá
DESCRIPTION:Účast možná pouze prostřednictvím internetu přes Faceboo
 k nebo zde na webu na stránce Živé vysílání.
CATEGORIES:Mše svatá
LOCATION:Kaple svatého Šarbela\, blahoslaveného Hroznaty a Karla\, Nehro
 va 26/3a\, Mariánské Lázně\, 353 01\, Czech Republic
X-APPLE-STRUCTURED-LOCATION;VALUE=URI;X-ADDRESS=Nehrova 26/3a\, Mariánské
  Lázně\, 353 01\, Czech Republic;X-APPLE-RADIUS=100;X-TITLE=Kaple svaté
 ho Šarbela\, blahoslaveného Hroznaty a Karla:geo:0,0
END:VEVENT
BEGIN:VTIMEZONE
TZID:Europe/Prague
X-LIC-LOCATION:Europe/Prague
BEGIN:STANDARD
DTSTART:20191027T020000
TZOFFSETFROM:+0200
TZOFFSETTO:+0100
TZNAME:CET
END:STANDARD
END:VTIMEZONE
END:VCALENDAR