BEGIN:VCALENDAR
VERSION:2.0
PRODID:-//wp-events-plugin.com//7.2.3.1//EN
TZID:Europe/Prague
X-WR-TIMEZONE:Europe/Prague
BEGIN:VEVENT
UID:2293@farnostml.cz
DTSTART;TZID=Europe/Prague:20201103T180000
DTEND;TZID=Europe/Prague:20201103T190000
DTSTAMP:20201115T102657Z
URL:https://www.farnostml.cz/en/udalosti/hovory-o-vire-2020-11-03/
SUMMARY:Hovory o víře
DESCRIPTION:Účast možná komukoliv bez registrace prostřednictvím Micr
 osoft Teams po kliknutí sem.\nPro volitelné přidání do skupiny nejlé
 pe napište předem na e-mail admin@farnostml.cz.
CATEGORIES:Setkání na faře
END:VEVENT
BEGIN:VTIMEZONE
TZID:Europe/Prague
X-LIC-LOCATION:Europe/Prague
BEGIN:STANDARD
DTSTART:20201025T020000
TZOFFSETFROM:+0200
TZOFFSETTO:+0100
TZNAME:CET
END:STANDARD
END:VTIMEZONE
END:VCALENDAR