BEGIN:VCALENDAR
VERSION:2.0
PRODID:-//wp-events-plugin.com//7.2.3.1//EN
TZID:Europe/Prague
X-WR-TIMEZONE:Europe/Prague
BEGIN:VEVENT
UID:1909@farnostml.cz
DTSTART;TZID=Europe/Prague:20200406T150000
DTEND;TZID=Europe/Prague:20200406T153000
DTSTAMP:20200403T171349Z
URL:https://www.farnostml.cz/en/udalosti/krizova-cesta-2020-04-06/
SUMMARY:Křížová cesta
DESCRIPTION:Účast možná pouze prostřednictvím internetu přes Faceboo
 k nebo zde na webu na stránce Živé vysílání. Záznam bude dostupný 
 k osobní modlitbě do zahájení velikonočního tridua.
CATEGORIES:Křížová cesta
END:VEVENT
BEGIN:VTIMEZONE
TZID:Europe/Prague
X-LIC-LOCATION:Europe/Prague
BEGIN:DAYLIGHT
DTSTART:20200329T030000
TZOFFSETFROM:+0100
TZOFFSETTO:+0200
TZNAME:CEST
END:DAYLIGHT
END:VTIMEZONE
END:VCALENDAR