BEGIN:VCALENDAR
VERSION:2.0
PRODID:-//wp-events-plugin.com//7.2.3.1//EN
TZID:Europe/Prague
X-WR-TIMEZONE:Europe/Prague
BEGIN:VEVENT
UID:6661@farnostml.cz
DTSTART;TZID=Europe/Prague:20250413T163000
DTEND;TZID=Europe/Prague:20250413T163000
DTSTAMP:20250406T191759Z
URL:https://www.farnostml.cz/en/udalosti/krizova-cesta-34/
SUMMARY:Křížová cesta
DESCRIPTION:\nProbíhá v geologickém parku\, začátek je u kaple.\n
CATEGORIES:Křížová cesta,Pobožnost
LOCATION:Kaple Panny Marie Bolestné\, Chopinova\, Mariánské Lázně\, 35
 3 01\, Czech Republic
X-APPLE-STRUCTURED-LOCATION;VALUE=URI;X-ADDRESS=Chopinova\, Mariánské Lá
 zně\, 353 01\, Czech Republic;X-APPLE-RADIUS=100;X-TITLE=Kaple Panny Mari
 e Bolestné:geo:0,0
END:VEVENT
BEGIN:VTIMEZONE
TZID:Europe/Prague
X-LIC-LOCATION:Europe/Prague
BEGIN:DAYLIGHT
DTSTART:20250330T030000
TZOFFSETFROM:+0100
TZOFFSETTO:+0200
TZNAME:CEST
END:DAYLIGHT
END:VTIMEZONE
END:VCALENDAR