BEGIN:VCALENDAR
VERSION:2.0
PRODID:-//wp-events-plugin.com//7.2.3.1//EN
TZID:Europe/Prague
X-WR-TIMEZONE:Europe/Prague
BEGIN:VEVENT
UID:1960@farnostml.cz
DTSTART;TZID=Europe/Prague:20200509T180000
DTEND;TZID=Europe/Prague:20200509T183000
DTSTAMP:20200507T182851Z
URL:https://www.farnostml.cz/en/udalosti/majova-poboznost-2020-05-09/
SUMMARY:Moleben k Přesvaté Bohorodici
DESCRIPTION:Prosebná modlitba k Panně Marii podle východní tradice. Pra
 videlná večerní modlitba ve 20:00 nebude.\n\nÚčast možná živě pro
 střednictvím internetu přes Facebook nebo zde na webu na stránce Živ
 é vysílání.
CATEGORIES:Modlitba,Východní bohoslužba
LOCATION:Kaple svatého Šarbela\, blahoslaveného Hroznaty a Karla\, Nehro
 va 26/3a\, Mariánské Lázně\, 353 01\, Czech Republic
X-APPLE-STRUCTURED-LOCATION;VALUE=URI;X-ADDRESS=Nehrova 26/3a\, Mariánské
  Lázně\, 353 01\, Czech Republic;X-APPLE-RADIUS=100;X-TITLE=Kaple svaté
 ho Šarbela\, blahoslaveného Hroznaty a Karla:geo:0,0
END:VEVENT
BEGIN:VTIMEZONE
TZID:Europe/Prague
X-LIC-LOCATION:Europe/Prague
BEGIN:DAYLIGHT
DTSTART:20200329T030000
TZOFFSETFROM:+0100
TZOFFSETTO:+0200
TZNAME:CEST
END:DAYLIGHT
END:VTIMEZONE
END:VCALENDAR