BEGIN:VCALENDAR
VERSION:2.0
PRODID:-//wp-events-plugin.com//7.2.3.1//EN
TZID:Europe/Prague
X-WR-TIMEZONE:Europe/Prague
BEGIN:VEVENT
UID:6685@farnostml.cz
DTSTART;TZID=Europe/Prague:20250511T164500
DTEND;TZID=Europe/Prague:20250511T164500
DTSTAMP:20250506T183444Z
URL:https://www.farnostml.cz/en/udalosti/majova-poboznost-22/
SUMMARY:Májová pobožnost
DESCRIPTION:
CATEGORIES:Pobožnost
LOCATION:Kaple Panny Marie\, Na Polomu\, Na Polomu\, Mariánské Lázně\, 
 Czech Republic
X-APPLE-STRUCTURED-LOCATION;VALUE=URI;X-ADDRESS=Na Polomu\, Mariánské Lá
 zně\, Czech Republic;X-APPLE-RADIUS=100;X-TITLE=Kaple Panny Marie\, Na Po
 lomu:geo:0,0
END:VEVENT
BEGIN:VTIMEZONE
TZID:Europe/Prague
X-LIC-LOCATION:Europe/Prague
BEGIN:DAYLIGHT
DTSTART:20250330T030000
TZOFFSETFROM:+0100
TZOFFSETTO:+0200
TZNAME:CEST
END:DAYLIGHT
END:VTIMEZONE
END:VCALENDAR