BEGIN:VCALENDAR
VERSION:2.0
PRODID:-//wp-events-plugin.com//7.2.3.1//EN
TZID:Europe/Prague
X-WR-TIMEZONE:Europe/Prague
BEGIN:VEVENT
UID:6689@farnostml.cz
DTSTART;TZID=Europe/Prague:20250518T164500
DTEND;TZID=Europe/Prague:20250518T164500
DTSTAMP:20250506T183444Z
URL:https://www.farnostml.cz/en/udalosti/majova-poboznost-23/
SUMMARY:Májová pobožnost
DESCRIPTION:
CATEGORIES:Pobožnost
LOCATION:Lurdská jeskyně\, u hotelu Krakonoš\, Mariánské Lázně\, Cze
 ch Republic
X-APPLE-STRUCTURED-LOCATION;VALUE=URI;X-ADDRESS=u hotelu Krakonoš\, Mariá
 nské Lázně\, Czech Republic;X-APPLE-RADIUS=100;X-TITLE=Lurdská jeskyn
 ě:geo:0,0
END:VEVENT
BEGIN:VTIMEZONE
TZID:Europe/Prague
X-LIC-LOCATION:Europe/Prague
BEGIN:DAYLIGHT
DTSTART:20250330T030000
TZOFFSETFROM:+0100
TZOFFSETTO:+0200
TZNAME:CEST
END:DAYLIGHT
END:VTIMEZONE
END:VCALENDAR