BEGIN:VCALENDAR
VERSION:2.0
PRODID:-//wp-events-plugin.com//7.2.3.1//EN
TZID:Europe/Prague
X-WR-TIMEZONE:Europe/Prague
BEGIN:VEVENT
UID:2363@farnostml.cz
DTSTART;TZID=Europe/Prague:20201103T200000
DTEND;TZID=Europe/Prague:20201103T203000
DTSTAMP:20201117T225220Z
URL:https://www.farnostml.cz/en/udalosti/modlitba-ruzence-2-2020-11-03/
SUMMARY:Modlitba růžence
DESCRIPTION:Modlitba růžence v čase\, kdy naši biskupové vyzývají ke
  společné modlitbě k Panně Marii\, Pomocnici křesťanů za ukončení
  pandemie.\n\nŽivé vysílání. Účast možná pouze prostřednictvím 
 tohoto webu nebo Facebooku.
CATEGORIES:Modlitba,Modlitba růžence
LOCATION:Kaple svatého Šarbela\, blahoslaveného Hroznaty a Karla\, Nehro
 va 26/3a\, Mariánské Lázně\, 353 01\, Czech Republic
X-APPLE-STRUCTURED-LOCATION;VALUE=URI;X-ADDRESS=Nehrova 26/3a\, Mariánské
  Lázně\, 353 01\, Czech Republic;X-APPLE-RADIUS=100;X-TITLE=Kaple svaté
 ho Šarbela\, blahoslaveného Hroznaty a Karla:geo:0,0
END:VEVENT
BEGIN:VTIMEZONE
TZID:Europe/Prague
X-LIC-LOCATION:Europe/Prague
BEGIN:STANDARD
DTSTART:20201025T020000
TZOFFSETFROM:+0200
TZOFFSETTO:+0100
TZNAME:CET
END:STANDARD
END:VTIMEZONE
END:VCALENDAR