BEGIN:VCALENDAR
VERSION:2.0
PRODID:-//wp-events-plugin.com//7.2.3.1//EN
TZID:Europe/Prague
X-WR-TIMEZONE:Europe/Prague
BEGIN:VEVENT
UID:935@farnostml.cz
DTSTART;TZID=Europe/Prague:20191102T144500
DTEND;TZID=Europe/Prague:20191102T151500
DTSTAMP:20190926T152647Z
URL:https://www.farnostml.cz/en/udalosti/modlitba-za-zemrele/
SUMMARY:Modlitba za zemřelé
DESCRIPTION:Následuje mše svatá v kostele.
CATEGORIES:Modlitba
LOCATION:Hřbitov\,  \, Trstěnice\, Czech Republic
X-APPLE-STRUCTURED-LOCATION;VALUE=URI;X-ADDRESS= \, Trstěnice\, Czech Repu
 blic;X-APPLE-RADIUS=100;X-TITLE=Hřbitov:geo:0,0
END:VEVENT
BEGIN:VTIMEZONE
TZID:Europe/Prague
X-LIC-LOCATION:Europe/Prague
BEGIN:STANDARD
DTSTART:20191027T020000
TZOFFSETFROM:+0200
TZOFFSETTO:+0100
TZNAME:CET
END:STANDARD
END:VTIMEZONE
END:VCALENDAR