BEGIN:VCALENDAR
VERSION:2.0
PRODID:-//wp-events-plugin.com//7.2.3.1//EN
TZID:Europe/Prague
X-WR-TIMEZONE:Europe/Prague
BEGIN:VEVENT
UID:1914@farnostml.cz
DTSTART;TZID=Europe/Prague:20200408T143000
DTEND;TZID=Europe/Prague:20200408T163000
DTSTAMP:20200403T172416Z
URL:https://www.farnostml.cz/en/udalosti/moznost-soukrome-modlitby-v-koste
 le-2/
SUMMARY:Možnost soukromé modlitby v kostele
DESCRIPTION:Od 14:30 do 16:30 je otevřen kostel zejména k soukromé modli
 tbě křížové cesty\, která se v tento den vždy konává. Prosím vyu
 žijte rovnoměrně celé časové rozmezí.
LOCATION:Farní kostel Nanebevzetí Panny Marie\, Goethovo náměstí 110/3
 1\, Mariánské Lázně\, Czech Republic
X-APPLE-STRUCTURED-LOCATION;VALUE=URI;X-ADDRESS=Goethovo náměstí 110/31\
 , Mariánské Lázně\, Czech Republic;X-APPLE-RADIUS=100;X-TITLE=Farní k
 ostel Nanebevzetí Panny Marie:geo:0,0
END:VEVENT
BEGIN:VTIMEZONE
TZID:Europe/Prague
X-LIC-LOCATION:Europe/Prague
BEGIN:DAYLIGHT
DTSTART:20200329T030000
TZOFFSETFROM:+0100
TZOFFSETTO:+0200
TZNAME:CEST
END:DAYLIGHT
END:VTIMEZONE
END:VCALENDAR