BEGIN:VCALENDAR
VERSION:2.0
PRODID:-//wp-events-plugin.com//7.2.3.1//EN
TZID:Europe/Prague
X-WR-TIMEZONE:Europe/Prague
BEGIN:VEVENT
UID:971@farnostml.cz
DTSTART;TZID=Europe/Prague;VALUE=DATE:20200315
DTEND;TZID=Europe/Prague;VALUE=DATE:20200316
DTSTAMP:20200312T204256Z
URL:https://www.farnostml.cz/en/udalosti/mse-svata-11-2020-03-15/
SUMMARY:Není žádná mše svatá v celé diecézi
DESCRIPTION:Zrušeno kvůli prevenci šíření koronaviru.
END:VEVENT
BEGIN:VTIMEZONE
TZID:Europe/Prague
X-LIC-LOCATION:Europe/Prague
BEGIN:STANDARD
DTSTART:20191027T020000
TZOFFSETFROM:+0200
TZOFFSETTO:+0100
TZNAME:CET
END:STANDARD
END:VTIMEZONE
END:VCALENDAR