BEGIN:VCALENDAR
VERSION:2.0
PRODID:-//wp-events-plugin.com//7.2.3.1//EN
TZID:Europe/Prague
X-WR-TIMEZONE:Europe/Prague
BEGIN:VEVENT
UID:996@farnostml.cz
DTSTART;TZID=Europe/Prague:20200906T101500
DTEND;TZID=Europe/Prague:20200906T111500
DTSTAMP:20200702T124035Z
URL:https://www.farnostml.cz/en/udalosti/mse-svata-11-2020-09-06/
SUMMARY:Výročí posvěcení farního kostela
DESCRIPTION:Slavnostní mše svatá s otcem biskupem\, následuje společn
 ý oběd na faře.\nZveme všechny věřící z celé farnosti\, proto jso
 u bohoslužby v Úšovicích a Lázních Kynžvart tento den zrušeny.
CATEGORIES:Mše svatá,Slavnost
LOCATION:Farní kostel Nanebevzetí Panny Marie\, Goethovo náměstí 110/3
 1\, Mariánské Lázně\, Czech Republic
X-APPLE-STRUCTURED-LOCATION;VALUE=URI;X-ADDRESS=Goethovo náměstí 110/31\
 , Mariánské Lázně\, Czech Republic;X-APPLE-RADIUS=100;X-TITLE=Farní k
 ostel Nanebevzetí Panny Marie:geo:0,0
END:VEVENT
BEGIN:VTIMEZONE
TZID:Europe/Prague
X-LIC-LOCATION:Europe/Prague
BEGIN:DAYLIGHT
DTSTART:20200329T030000
TZOFFSETFROM:+0100
TZOFFSETTO:+0200
TZNAME:CEST
END:DAYLIGHT
END:VTIMEZONE
END:VCALENDAR