BEGIN:VCALENDAR
VERSION:2.0
PRODID:-//wp-events-plugin.com//7.2.3.1//EN
TZID:Europe/Prague
X-WR-TIMEZONE:Europe/Prague
BEGIN:VEVENT
UID:5063@farnostml.cz
DTSTART;TZID=Europe/Prague:20231104T153000
DTEND;TZID=Europe/Prague:20231104T161500
DTSTAMP:20231029T144209Z
URL:https://www.farnostml.cz/en/udalosti/mse-svata-116-2023-11-04/
SUMMARY:Mše svatá
DESCRIPTION:15:00 pobožnost na hřbitově v Trstěnicích\n15:30 mše svat
 á v kapli sv. Josefa v Drmoulu
CATEGORIES:Mše svatá
LOCATION:Kaple svatého Josefa\, Sekerská\, Drmoul\, Czech Republic
X-APPLE-STRUCTURED-LOCATION;VALUE=URI;X-ADDRESS=Sekerská\, Drmoul\, Czech 
 Republic;X-APPLE-RADIUS=100;X-TITLE=Kaple svatého Josefa:geo:0,0
END:VEVENT
BEGIN:VTIMEZONE
TZID:Europe/Prague
X-LIC-LOCATION:Europe/Prague
BEGIN:STANDARD
DTSTART:20231029T020000
TZOFFSETFROM:+0200
TZOFFSETTO:+0100
TZNAME:CET
END:STANDARD
END:VTIMEZONE
END:VCALENDAR