BEGIN:VCALENDAR
VERSION:2.0
PRODID:-//wp-events-plugin.com//7.2.3.1//EN
TZID:Europe/Prague
X-WR-TIMEZONE:Europe/Prague
BEGIN:VEVENT
UID:1249@farnostml.cz
DTSTART;TZID=Europe/Prague;VALUE=DATE:20200319
DTEND;TZID=Europe/Prague;VALUE=DATE:20200320
DTSTAMP:20200313T163446Z
URL:https://www.farnostml.cz/en/udalosti/mse-svata-13-2020-03-19/
SUMMARY:Slavnost svatého Josefa
DESCRIPTION:Mše svatá je zrušena kvůli prevenci šíření koronaviru.
CATEGORIES:Slavnost
END:VEVENT
BEGIN:VTIMEZONE
TZID:Europe/Prague
X-LIC-LOCATION:Europe/Prague
BEGIN:STANDARD
DTSTART:20191027T020000
TZOFFSETFROM:+0200
TZOFFSETTO:+0100
TZNAME:CET
END:STANDARD
END:VTIMEZONE
END:VCALENDAR