BEGIN:VCALENDAR
VERSION:2.0
PRODID:-//wp-events-plugin.com//7.2.3.1//EN
TZID:Europe/Prague
X-WR-TIMEZONE:Europe/Prague
BEGIN:VEVENT
UID:6013@farnostml.cz
DTSTART;TZID=Europe/Prague:20241201T101500
DTEND;TZID=Europe/Prague:20241201T111500
DTSTAMP:20241124T155629Z
URL:https://www.farnostml.cz/en/udalosti/mse-svata-132-2024-12-01/
SUMMARY:1. neděle adventní
DESCRIPTION:\nPontifikální mše svatá u příležitosti biskupské vizit
 ace farnosti.\n\n\n\nPo mši svaté jsou všichni farníci srdečně zván
 i ke společnému posezení a občerstvení do farního sálu v Nehrově u
 lici. Je možno využít výtah ve druhé části budovy (vchod vlevo od r
 estaurace).\n\n\n\nV pátek 29. listopadu a v neděli 1. prosince navští
 ví naši farnost diecézní biskup Mons. Tomáš Holub. Pontifikální m
 še svatá bude v neděli v 10:15 ve farním kostele (mše svaté v Úšov
 icích\, Velké Hleďsebi a Lázních Kynžvart se nekonají).\n
CATEGORIES:Mše svatá
LOCATION:Farní kostel Nanebevzetí Panny Marie\, Goethovo náměstí 110/3
 1\, Mariánské Lázně\, Czech Republic
X-APPLE-STRUCTURED-LOCATION;VALUE=URI;X-ADDRESS=Goethovo náměstí 110/31\
 , Mariánské Lázně\, Czech Republic;X-APPLE-RADIUS=100;X-TITLE=Farní k
 ostel Nanebevzetí Panny Marie:geo:0,0
END:VEVENT
BEGIN:VTIMEZONE
TZID:Europe/Prague
X-LIC-LOCATION:Europe/Prague
BEGIN:STANDARD
DTSTART:20241027T020000
TZOFFSETFROM:+0200
TZOFFSETTO:+0100
TZNAME:CET
END:STANDARD
END:VTIMEZONE
END:VCALENDAR