BEGIN:VCALENDAR
VERSION:2.0
PRODID:-//wp-events-plugin.com//7.2.3.1//EN
TZID:Europe/Prague
X-WR-TIMEZONE:Europe/Prague
BEGIN:VEVENT
UID:6526@farnostml.cz
DTSTART;TZID=Europe/Prague:20250705T153000
DTEND;TZID=Europe/Prague:20250705T153000
DTSTAMP:20241124T152457Z
URL:https://www.farnostml.cz/en/udalosti/mse-svata-142-2025-07-05/
SUMMARY:Mše svatá
DESCRIPTION:
CATEGORIES:Mše svatá
LOCATION:Kaple svatého Josefa\, Sekerská\, Drmoul\, Czech Republic
X-APPLE-STRUCTURED-LOCATION;VALUE=URI;X-ADDRESS=Sekerská\, Drmoul\, Czech 
 Republic;X-APPLE-RADIUS=100;X-TITLE=Kaple svatého Josefa:geo:0,0
END:VEVENT
BEGIN:VTIMEZONE
TZID:Europe/Prague
X-LIC-LOCATION:Europe/Prague
BEGIN:DAYLIGHT
DTSTART:20250330T030000
TZOFFSETFROM:+0100
TZOFFSETTO:+0200
TZNAME:CEST
END:DAYLIGHT
END:VTIMEZONE
END:VCALENDAR