BEGIN:VCALENDAR
VERSION:2.0
PRODID:-//wp-events-plugin.com//7.2.3.1//EN
TZID:Europe/Prague
X-WR-TIMEZONE:Europe/Prague
BEGIN:VEVENT
UID:5154@farnostml.cz
DTSTART;TZID=Europe/Prague;VALUE=DATE:20240206
DTEND;TZID=Europe/Prague;VALUE=DATE:20240211
DTSTAMP:20240205T154449Z
URL:https://www.farnostml.cz/en/udalosti/nejsou-mse-svate-2024-02/
SUMMARY:Nejsou žádné mše svaté
DESCRIPTION:V celé farnosti se od úterý do soboty nekonají mše svaté.
  (Dovolená faráře.)
END:VEVENT
BEGIN:VTIMEZONE
TZID:Europe/Prague
X-LIC-LOCATION:Europe/Prague
BEGIN:STANDARD
DTSTART:20231029T020000
TZOFFSETFROM:+0200
TZOFFSETTO:+0100
TZNAME:CET
END:STANDARD
END:VTIMEZONE
END:VCALENDAR