BEGIN:VCALENDAR
VERSION:2.0
PRODID:-//wp-events-plugin.com//7.2.3.1//EN
TZID:Europe/Prague
X-WR-TIMEZONE:Europe/Prague
BEGIN:VEVENT
UID:2645@farnostml.cz
DTSTART;TZID=Europe/Prague;VALUE=DATE:20210116
DTEND;TZID=Europe/Prague;VALUE=DATE:20210117
DTSTAMP:20210110T163743Z
URL:https://www.farnostml.cz/en/udalosti/neni-mse-svata-2021-01-16/
SUMMARY:Není mše svatá
DESCRIPTION:Koná se mše svatá ve Velké Hleďsebi.
LOCATION:Kostel svatého Víta\, Trstěnice\, Trstěnice\, Czech Republic
X-APPLE-STRUCTURED-LOCATION;VALUE=URI;X-ADDRESS=Trstěnice\, Trstěnice\, C
 zech Republic;X-APPLE-RADIUS=100;X-TITLE=Kostel svatého Víta:geo:0,0
END:VEVENT
BEGIN:VTIMEZONE
TZID:Europe/Prague
X-LIC-LOCATION:Europe/Prague
BEGIN:STANDARD
DTSTART:20201025T020000
TZOFFSETFROM:+0200
TZOFFSETTO:+0100
TZNAME:CET
END:STANDARD
END:VTIMEZONE
END:VCALENDAR