BEGIN:VCALENDAR
VERSION:2.0
PRODID:-//wp-events-plugin.com//7.2.3.1//EN
TZID:Europe/Prague
X-WR-TIMEZONE:Europe/Prague
BEGIN:VEVENT
UID:1788@farnostml.cz
DTSTART;TZID=Europe/Prague;VALUE=DATE:20200226
DTEND;TZID=Europe/Prague;VALUE=DATE:20200227
DTSTAMP:20200224T230451Z
URL:https://www.farnostml.cz/en/udalosti/popelecni-streda/
SUMMARY:Popeleční středa
DESCRIPTION:
END:VEVENT
BEGIN:VTIMEZONE
TZID:Europe/Prague
X-LIC-LOCATION:Europe/Prague
BEGIN:STANDARD
DTSTART:20191027T020000
TZOFFSETFROM:+0200
TZOFFSETTO:+0100
TZNAME:CET
END:STANDARD
END:VTIMEZONE
END:VCALENDAR