BEGIN:VCALENDAR
VERSION:2.0
PRODID:-//wp-events-plugin.com//7.2.3.1//EN
TZID:Europe/Prague
X-WR-TIMEZONE:Europe/Prague
BEGIN:VEVENT
UID:1971@farnostml.cz
DTSTART;TZID=Europe/Prague:20200613T150000
DTEND;TZID=Europe/Prague:20200613T150000
DTSTAMP:20200607T105933Z
URL:https://www.farnostml.cz/en/udalosti/poutni-mse-svata-2/
SUMMARY:Poutní mše svatá
DESCRIPTION:
CATEGORIES:Mše svatá,Pouť,Slavnost
LOCATION:Zámecká kaple svatého Antonína\, Zámek 347\, Lázně Kynžvar
 t\, Czech Republic
X-APPLE-STRUCTURED-LOCATION;VALUE=URI;X-ADDRESS=Zámek 347\, Lázně Kynžv
 art\, Czech Republic;X-APPLE-RADIUS=100;X-TITLE=Zámecká kaple svatého A
 ntonína:geo:0,0
END:VEVENT
BEGIN:VTIMEZONE
TZID:Europe/Prague
X-LIC-LOCATION:Europe/Prague
BEGIN:DAYLIGHT
DTSTART:20200329T030000
TZOFFSETFROM:+0100
TZOFFSETTO:+0200
TZNAME:CEST
END:DAYLIGHT
END:VTIMEZONE
END:VCALENDAR