BEGIN:VCALENDAR
VERSION:2.0
PRODID:-//wp-events-plugin.com//7.2.3.1//EN
TZID:Europe/Prague
X-WR-TIMEZONE:Europe/Prague
BEGIN:VEVENT
UID:1986@farnostml.cz
DTSTART;TZID=Europe/Prague:20200913T150000
DTEND;TZID=Europe/Prague:20200913T150000
DTSTAMP:20200911T182841Z
URL:https://www.farnostml.cz/en/udalosti/poutni-mse-svata-4/
SUMMARY:Poutní mše svatá
DESCRIPTION:Mše svatá se i přes karanténní opatření koná.
CATEGORIES:Mše svatá,Pouť,Slavnost
LOCATION:Kaple Panny Marie Bolestné\, Chopinova\, Mariánské Lázně\, 35
 3 01\, Czech Republic
X-APPLE-STRUCTURED-LOCATION;VALUE=URI;X-ADDRESS=Chopinova\, Mariánské Lá
 zně\, 353 01\, Czech Republic;X-APPLE-RADIUS=100;X-TITLE=Kaple Panny Mari
 e Bolestné:geo:0,0
END:VEVENT
BEGIN:VTIMEZONE
TZID:Europe/Prague
X-LIC-LOCATION:Europe/Prague
BEGIN:DAYLIGHT
DTSTART:20200329T030000
TZOFFSETFROM:+0100
TZOFFSETTO:+0200
TZNAME:CEST
END:DAYLIGHT
END:VTIMEZONE
END:VCALENDAR