BEGIN:VCALENDAR
VERSION:2.0
PRODID:-//wp-events-plugin.com//7.2.3.1//EN
TZID:Europe/Prague
X-WR-TIMEZONE:Europe/Prague
BEGIN:VEVENT
UID:1976@farnostml.cz
DTSTART;TZID=Europe/Prague:20200718T100000
DTEND;TZID=Europe/Prague:20200718T111500
DTSTAMP:20200704T124834Z
URL:https://www.farnostml.cz/en/udalosti/poutni-mse-svata-ke-cti-bl-hrozna
 ty-2/
SUMMARY:Poutní mše svatá ke cti bl. Hroznaty
DESCRIPTION:Do kláštera v Teplé pojede farní autobus v 9:00 od dopravn
 ího podniku a zastaví jako obvykle na zastávce MHD Chebská křižovatk
 a směr centrum.
CATEGORIES:Mše svatá,Pouť,Slavnost
LOCATION:Klášter Premonstrátů\, 1\, Teplá\, Czech Republic
X-APPLE-STRUCTURED-LOCATION;VALUE=URI;X-ADDRESS=1\, Teplá\, Czech Republic
 ;X-APPLE-RADIUS=100;X-TITLE=Klášter Premonstrátů:geo:0,0
END:VEVENT
BEGIN:VTIMEZONE
TZID:Europe/Prague
X-LIC-LOCATION:Europe/Prague
BEGIN:DAYLIGHT
DTSTART:20200329T030000
TZOFFSETFROM:+0100
TZOFFSETTO:+0200
TZNAME:CEST
END:DAYLIGHT
END:VTIMEZONE
END:VCALENDAR