BEGIN:VCALENDAR
VERSION:2.0
PRODID:-//wp-events-plugin.com//7.2.3.1//EN
TZID:Europe/Prague
X-WR-TIMEZONE:Europe/Prague
BEGIN:VEVENT
UID:5921@farnostml.cz
DTSTART;TZID=Europe/Prague:20240817T101500
DTEND;TZID=Europe/Prague:20240817T101500
DTSTAMP:20240811T171946Z
URL:https://www.farnostml.cz/en/udalosti/poutni-slavnost-16/
SUMMARY:Poutní slavnost
DESCRIPTION:\nZměna času z původních 10:00.\n\n\n\nPo mši svaté násl
 eduje posezení s občerstvením na faře v Nehrově ulici.\n
CATEGORIES:Mše svatá,Pouť,Slavnost
LOCATION:Farní kostel Nanebevzetí Panny Marie\, Goethovo náměstí 110/3
 1\, Mariánské Lázně\, Czech Republic
X-APPLE-STRUCTURED-LOCATION;VALUE=URI;X-ADDRESS=Goethovo náměstí 110/31\
 , Mariánské Lázně\, Czech Republic;X-APPLE-RADIUS=100;X-TITLE=Farní k
 ostel Nanebevzetí Panny Marie:geo:0,0
END:VEVENT
BEGIN:VTIMEZONE
TZID:Europe/Prague
X-LIC-LOCATION:Europe/Prague
BEGIN:DAYLIGHT
DTSTART:20240331T030000
TZOFFSETFROM:+0100
TZOFFSETTO:+0200
TZNAME:CEST
END:DAYLIGHT
END:VTIMEZONE
END:VCALENDAR