BEGIN:VCALENDAR
VERSION:2.0
PRODID:-//wp-events-plugin.com//7.2.3.1//EN
TZID:Europe/Prague
X-WR-TIMEZONE:Europe/Prague
BEGIN:VEVENT
UID:6700@farnostml.cz
DTSTART;TZID=Europe/Prague:20250607T100000
DTEND;TZID=Europe/Prague:20250607T100000
DTSTAMP:20250603T122606Z
URL:https://www.farnostml.cz/en/udalosti/poutni-slavnost-17/
SUMMARY:Poutní slavnost
DESCRIPTION:Po mši svaté jsou všichni zváni na posezení a grilované o
 bčerstvení na farní zahradě.
CATEGORIES:Mše svatá,Pouť,Slavnost
LOCATION:Kostel svatého Antonína\, Ke Kostelu\, Mariánské Lázně\, 353
  01\, Czech Republic
X-APPLE-STRUCTURED-LOCATION;VALUE=URI;X-ADDRESS=Ke Kostelu\, Mariánské L
 ázně\, 353 01\, Czech Republic;X-APPLE-RADIUS=100;X-TITLE=Kostel svatéh
 o Antonína:geo:0,0
END:VEVENT
BEGIN:VTIMEZONE
TZID:Europe/Prague
X-LIC-LOCATION:Europe/Prague
BEGIN:DAYLIGHT
DTSTART:20250330T030000
TZOFFSETFROM:+0100
TZOFFSETTO:+0200
TZNAME:CEST
END:DAYLIGHT
END:VTIMEZONE
END:VCALENDAR