BEGIN:VCALENDAR
VERSION:2.0
PRODID:-//wp-events-plugin.com//7.2.3.1//EN
TZID:Europe/Prague
X-WR-TIMEZONE:Europe/Prague
BEGIN:VEVENT
UID:6692@farnostml.cz
DTSTART;TZID=Europe/Prague:20250522T143000
DTEND;TZID=Europe/Prague:20250522T143000
DTSTAMP:20250518T205500Z
URL:https://www.farnostml.cz/en/udalosti/prednaska-krestan-a-media/
SUMMARY:Přednáška Křesťan a média
DESCRIPTION:\nKateřina Koubová\, šéfredaktorka Katolického týdeníku\
 n
CATEGORIES:Klub seniorů,Přednáška,Setkání na faře
LOCATION:Fara\, Nehrova 26/3a\, Mariánské Lázně\, Czech Republic
X-APPLE-STRUCTURED-LOCATION;VALUE=URI;X-ADDRESS=Nehrova 26/3a\, Mariánské
  Lázně\, Czech Republic;X-APPLE-RADIUS=100;X-TITLE=Fara:geo:0,0
END:VEVENT
BEGIN:VTIMEZONE
TZID:Europe/Prague
X-LIC-LOCATION:Europe/Prague
BEGIN:DAYLIGHT
DTSTART:20250330T030000
TZOFFSETFROM:+0100
TZOFFSETTO:+0200
TZNAME:CEST
END:DAYLIGHT
END:VTIMEZONE
END:VCALENDAR