BEGIN:VCALENDAR
VERSION:2.0
PRODID:-//wp-events-plugin.com//7.2.3.1//EN
TZID:Europe/Prague
X-WR-TIMEZONE:Europe/Prague
BEGIN:VEVENT
UID:6004@farnostml.cz
DTSTART;TZID=Europe/Prague:20241114T143000
DTEND;TZID=Europe/Prague:20241114T143000
DTSTAMP:20241030T213507Z
URL:https://www.farnostml.cz/en/udalosti/projekty-mesta-2024-2026/
SUMMARY:Projekty města 2024-2026
DESCRIPTION:Přednáší: Zdeněk Král\, uvolněný člen rady města Mari
 ánské Lázně
CATEGORIES:Přednáška
LOCATION:Fara\, Nehrova 26/3a\, Mariánské Lázně\, Czech Republic
X-APPLE-STRUCTURED-LOCATION;VALUE=URI;X-ADDRESS=Nehrova 26/3a\, Mariánské
  Lázně\, Czech Republic;X-APPLE-RADIUS=100;X-TITLE=Fara:geo:0,0
END:VEVENT
BEGIN:VTIMEZONE
TZID:Europe/Prague
X-LIC-LOCATION:Europe/Prague
BEGIN:STANDARD
DTSTART:20241027T020000
TZOFFSETFROM:+0200
TZOFFSETTO:+0100
TZNAME:CET
END:STANDARD
END:VTIMEZONE
END:VCALENDAR