BEGIN:VCALENDAR
VERSION:2.0
PRODID:-//wp-events-plugin.com//7.2.3.1//EN
TZID:Europe/Prague
X-WR-TIMEZONE:Europe/Prague
BEGIN:VEVENT
UID:1745@farnostml.cz
DTSTART;TZID=Europe/Prague:20191209T173000
DTEND;TZID=Europe/Prague:20191209T173000
DTSTAMP:20191201T113244Z
URL:https://www.farnostml.cz/en/udalosti/slavnost-panny-marie-pocate-bez-p
 oskvrny-prvotniho-hrichu/
SUMMARY:Slavnost Panny Marie počaté bez poskvrny prvotního hříchu
DESCRIPTION:Mše svatá
CATEGORIES:Mše svatá,Slavnost
LOCATION:Farní kostel Nanebevzetí Panny Marie\, Goethovo náměstí 110/3
 1\, Mariánské Lázně\, Czech Republic
X-APPLE-STRUCTURED-LOCATION;VALUE=URI;X-ADDRESS=Goethovo náměstí 110/31\
 , Mariánské Lázně\, Czech Republic;X-APPLE-RADIUS=100;X-TITLE=Farní k
 ostel Nanebevzetí Panny Marie:geo:0,0
END:VEVENT
BEGIN:VTIMEZONE
TZID:Europe/Prague
X-LIC-LOCATION:Europe/Prague
BEGIN:STANDARD
DTSTART:20191027T020000
TZOFFSETFROM:+0200
TZOFFSETTO:+0100
TZNAME:CET
END:STANDARD
END:VTIMEZONE
END:VCALENDAR