BEGIN:VCALENDAR
VERSION:2.0
PRODID:-//wp-events-plugin.com//7.2.3.1//EN
TZID:Europe/Prague
X-WR-TIMEZONE:Europe/Prague
BEGIN:VEVENT
UID:1918@farnostml.cz
DTSTART;TZID=Europe/Prague;VALUE=DATE:20200410
DTEND;TZID=Europe/Prague;VALUE=DATE:20200411
DTSTAMP:20200403T172800Z
URL:https://www.farnostml.cz/en/udalosti/velky-patek/
SUMMARY:Velký pátek
DESCRIPTION:
END:VEVENT
BEGIN:VTIMEZONE
TZID:Europe/Prague
X-LIC-LOCATION:Europe/Prague
BEGIN:DAYLIGHT
DTSTART:20200329T030000
TZOFFSETFROM:+0100
TZOFFSETTO:+0200
TZNAME:CEST
END:DAYLIGHT
END:VTIMEZONE
END:VCALENDAR