BEGIN:VCALENDAR
VERSION:2.0
PRODID:-//wp-events-plugin.com//7.2.3.1//EN
TZID:Europe/Prague
X-WR-TIMEZONE:Europe/Prague
BEGIN:VEVENT
UID:1984@farnostml.cz
DTSTART;TZID=Europe/Prague:20200910T110000
DTEND;TZID=Europe/Prague:20200910T110000
DTSTAMP:20200906T124051Z
URL:https://www.farnostml.cz/en/udalosti/zadusni-mse-svata-za-pani-marii-l
 oveckovou/
SUMMARY:Zádušní mše svatá za paní Marii Lovečkovou
DESCRIPTION:Paní Lovečková zemřela náhle ve čtvrtek 3.9.\, na posledn
 í rozloučení jsou zváni všichni farníci.
CATEGORIES:Mše svatá,Zádušní bohoslužba
LOCATION:Kostel svatého Antonína\, Ke Kostelu\, Mariánské Lázně\, 353
  01\, Czech Republic
X-APPLE-STRUCTURED-LOCATION;VALUE=URI;X-ADDRESS=Ke Kostelu\, Mariánské L
 ázně\, 353 01\, Czech Republic;X-APPLE-RADIUS=100;X-TITLE=Kostel svatéh
 o Antonína:geo:0,0
END:VEVENT
BEGIN:VTIMEZONE
TZID:Europe/Prague
X-LIC-LOCATION:Europe/Prague
BEGIN:DAYLIGHT
DTSTART:20200329T030000
TZOFFSETFROM:+0100
TZOFFSETTO:+0200
TZNAME:CEST
END:DAYLIGHT
END:VTIMEZONE
END:VCALENDAR