BEGIN:VCALENDAR
VERSION:2.0
PRODID:-//wp-events-plugin.com//7.2.3.1//EN
TZID:Europe/Prague
X-WR-TIMEZONE:Europe/Prague
BEGIN:VEVENT
UID:6635@farnostml.cz
DTSTART;TZID=Europe/Prague:20250224T180000
DTEND;TZID=Europe/Prague:20250224T180000
DTSTAMP:20250206T123945Z
URL:https://www.farnostml.cz/en/udalosti/zasveceny-zivot/
SUMMARY:Zasvěcený život
DESCRIPTION:Přednáška.\nPřednáší: ICLic. Mgr. Řehoř Pavel Urban\, 
 OPraem
CATEGORIES:Přednáška
LOCATION:Obecní knihovna\, Plzeňská 32\,  Velká Hleďsebe\, 353 01\, Cz
 ech Republic
X-APPLE-STRUCTURED-LOCATION;VALUE=URI;X-ADDRESS=Plzeňská 32\,  Velká Hle
 ďsebe\, 353 01\, Czech Republic;X-APPLE-RADIUS=100;X-TITLE=Obecní knihov
 na:geo:0,0
END:VEVENT
BEGIN:VTIMEZONE
TZID:Europe/Prague
X-LIC-LOCATION:Europe/Prague
BEGIN:STANDARD
DTSTART:20241027T020000
TZOFFSETFROM:+0200
TZOFFSETTO:+0100
TZNAME:CET
END:STANDARD
END:VTIMEZONE
END:VCALENDAR