BEGIN:VCALENDAR
VERSION:2.0
PRODID:-//wp-events-plugin.com//7.2.3.1//EN
TZID:Europe/Prague
X-WR-TIMEZONE:Europe/Prague
BEGIN:VEVENT
UID:6694@farnostml.cz
DTSTART;TZID=Europe/Prague:20250524T100000
DTEND;TZID=Europe/Prague:20250524T100000
DTSTAMP:20250506T183340Z
URL:https://www.farnostml.cz/en/udalosti/zehnani-pramene-richard-2025/
SUMMARY:Žehnání pramene Richard
DESCRIPTION:\nLázně Kynžvart\n\n\n\n\n
CATEGORIES:Žehnání
END:VEVENT
BEGIN:VTIMEZONE
TZID:Europe/Prague
X-LIC-LOCATION:Europe/Prague
BEGIN:DAYLIGHT
DTSTART:20250330T030000
TZOFFSETFROM:+0100
TZOFFSETTO:+0200
TZNAME:CEST
END:DAYLIGHT
END:VTIMEZONE
END:VCALENDAR