BEGIN:VCALENDAR
VERSION:2.0
PRODID:-//wp-events-plugin.com//7.2.3.1//EN
TZID:Europe/Prague
X-WR-TIMEZONE:Europe/Prague
BEGIN:VEVENT
UID:5982@farnostml.cz
DTSTART;TZID=Europe/Prague:20240908T160000
DTEND;TZID=Europe/Prague:20240908T160000
DTSTAMP:20240827T105140Z
URL:https://www.farnostml.cz/en/udalosti/zehnani-pramene-tereza-lazne-kynz
 vart/
SUMMARY:Žehnání pramene Tereza\, Lázně Kynžvart
DESCRIPTION:
CATEGORIES:Žehnání
END:VEVENT
BEGIN:VTIMEZONE
TZID:Europe/Prague
X-LIC-LOCATION:Europe/Prague
BEGIN:DAYLIGHT
DTSTART:20240331T030000
TZOFFSETFROM:+0100
TZOFFSETTO:+0200
TZNAME:CEST
END:DAYLIGHT
END:VTIMEZONE
END:VCALENDAR