BEGIN:VCALENDAR
VERSION:2.0
PRODID:-//wp-events-plugin.com//7.2.3.1//EN
TZID:Europe/Prague
X-WR-TIMEZONE:Europe/Prague
BEGIN:VEVENT
UID:5898@farnostml.cz
DTSTART;TZID=Europe/Prague:20240525T110000
DTEND;TZID=Europe/Prague:20240525T110000
DTSTAMP:20240401T124632Z
URL:https://www.farnostml.cz/en/udalosti/zehnani-pramene/
SUMMARY:Žehnání pramene
DESCRIPTION:pramen Richard\, Lázně Kynžvart
CATEGORIES:Žehnání
END:VEVENT
BEGIN:VTIMEZONE
TZID:Europe/Prague
X-LIC-LOCATION:Europe/Prague
BEGIN:DAYLIGHT
DTSTART:20240331T030000
TZOFFSETFROM:+0100
TZOFFSETTO:+0200
TZNAME:CEST
END:DAYLIGHT
END:VTIMEZONE
END:VCALENDAR