BEGIN:VCALENDAR
VERSION:2.0
PRODID:-//wp-events-plugin.com//7.2.3.1//EN
TZID:Europe/Prague
X-WR-TIMEZONE:Europe/Prague
BEGIN:VEVENT
UID:1961@farnostml.cz
DTSTART;TZID=Europe/Prague:20200509T090000
DTEND;TZID=Europe/Prague:20200509T092000
DTSTAMP:20200508T141555Z
URL:https://www.farnostml.cz/en/udalosti/zehnani-pramenu-2020/
SUMMARY:Žehnání pramenů
DESCRIPTION:Žehnání nebude z technických důvodů přenášeno přes in
 ternet. K události se prosím připojte v modlitbě. Záznam bude dostupn
 ý později.
CATEGORIES:Žehnání
END:VEVENT
BEGIN:VTIMEZONE
TZID:Europe/Prague
X-LIC-LOCATION:Europe/Prague
BEGIN:DAYLIGHT
DTSTART:20200329T030000
TZOFFSETFROM:+0100
TZOFFSETTO:+0200
TZNAME:CEST
END:DAYLIGHT
END:VTIMEZONE
END:VCALENDAR