BEGIN:VCALENDAR
VERSION:2.0
PRODID:-//wp-events-plugin.com//7.2.3.1//EN
TZID:Europe/Prague
X-WR-TIMEZONE:Europe/Prague
BEGIN:VEVENT
UID:5109@farnostml.cz
DTSTART;TZID=Europe/Prague:20231114T143000
DTEND;TZID=Europe/Prague:20231114T143000
DTSTAMP:20231108T114324Z
URL:https://www.farnostml.cz/en/udalosti/zivot-v-premonstratskem-klastere/
SUMMARY:Život v premonstrátském klášteře
DESCRIPTION:Přednáší P. Filip Zdeněk Lobkowicz\, OPraem\, opat tepelsk
 ý
CATEGORIES:Klub seniorů,Přednáška
LOCATION:Fara\, Nehrova 26/3a\, Mariánské Lázně\, Czech Republic
X-APPLE-STRUCTURED-LOCATION;VALUE=URI;X-ADDRESS=Nehrova 26/3a\, Mariánské
  Lázně\, Czech Republic;X-APPLE-RADIUS=100;X-TITLE=Fara:geo:0,0
END:VEVENT
BEGIN:VTIMEZONE
TZID:Europe/Prague
X-LIC-LOCATION:Europe/Prague
BEGIN:STANDARD
DTSTART:20231029T020000
TZOFFSETFROM:+0200
TZOFFSETTO:+0100
TZNAME:CET
END:STANDARD
END:VTIMEZONE
END:VCALENDAR