BEGIN:VCALENDAR
VERSION:2.0
PRODID:-//wp-events-plugin.com//7.2.3.1//EN
TZID:Europe/Prague
X-WR-TIMEZONE:Europe/Prague
BEGIN:VEVENT
UID:1985@farnostml.cz
DTSTART;TZID=Europe/Prague;VALUE=DATE:20200912
DTEND;TZID=Europe/Prague;VALUE=DATE:20200913
DTSTAMP:20200906T124956Z
URL:https://www.farnostml.cz/udalosti/diecezni-pout-2/
SUMMARY:Diecézní pouť
DESCRIPTION:S ohledem na omezení událostí s větším počtem účastní
 ků je osobní účast možná pouze na základě vstupenky. Ostatní vě
 řící jsou otcem biskupem zváni k účasti prostřednictvím přímluvy
  napsané na lísteček a odevzdané např. do košíku na oltáři sv. Ja
 na Nepomuckého ve farním kostele nejpozději ve středu 9. 9.
CATEGORIES:Pouť
LOCATION:Klášter Premonstrátů\, 1\, Teplá\, Česká republika
X-APPLE-STRUCTURED-LOCATION;VALUE=URI;X-ADDRESS=1\, Teplá\, Česká republ
 ika;X-APPLE-RADIUS=100;X-TITLE=Klášter Premonstrátů:geo:0,0
END:VEVENT
BEGIN:VTIMEZONE
TZID:Europe/Prague
X-LIC-LOCATION:Europe/Prague
BEGIN:DAYLIGHT
DTSTART:20200329T030000
TZOFFSETFROM:+0100
TZOFFSETTO:+0200
TZNAME:CEST
END:DAYLIGHT
END:VTIMEZONE
END:VCALENDAR