BEGIN:VCALENDAR
VERSION:2.0
PRODID:-//wp-events-plugin.com//7.2.3.1//EN
TZID:Europe/Prague
X-WR-TIMEZONE:Europe/Prague
BEGIN:VEVENT
UID:5923@farnostml.cz
DTSTART;TZID=Europe/Prague:20240914T090000
DTEND;TZID=Europe/Prague:20240914T153000
DTSTAMP:20240827T110102Z
URL:https://www.farnostml.cz/udalosti/diecezni-pout-5/
SUMMARY:Diecézní pouť
DESCRIPTION:\n\n\n\n\nPo celý den bude v&nbsp\;galerii Čeledník v&nbsp\;
 jižním křídle kláštera přístupná výstava plakátů Martiny Klán
 ové s&nbsp\;názvem Modlitba mladé duše.\n
CATEGORIES:Mše svatá,Pouť
LOCATION:Klášter Premonstrátů\, 1\, Teplá\, Česká republika
X-APPLE-STRUCTURED-LOCATION;VALUE=URI;X-ADDRESS=1\, Teplá\, Česká republ
 ika;X-APPLE-RADIUS=100;X-TITLE=Klášter Premonstrátů:geo:0,0
END:VEVENT
BEGIN:VTIMEZONE
TZID:Europe/Prague
X-LIC-LOCATION:Europe/Prague
BEGIN:DAYLIGHT
DTSTART:20240331T030000
TZOFFSETFROM:+0100
TZOFFSETTO:+0200
TZNAME:CEST
END:DAYLIGHT
END:VTIMEZONE
END:VCALENDAR