BEGIN:VCALENDAR
VERSION:2.0
PRODID:-//wp-events-plugin.com//7.2.3.1//EN
TZID:Europe/Prague
X-WR-TIMEZONE:Europe/Prague
BEGIN:VEVENT
UID:6632@farnostml.cz
DTSTART;TZID=Europe/Prague:20250211T170000
DTEND;TZID=Europe/Prague:20250211T170000
DTSTAMP:20250206T123945Z
URL:https://www.farnostml.cz/udalosti/ekumenicka-modlitba-za-nemocne-5/
SUMMARY:Ekumenická modlitba za nemocné
DESCRIPTION:
CATEGORIES:Ekumenická bohoslužba,Modlitba
LOCATION:Farní kostel Nanebevzetí Panny Marie\, Goethovo náměstí 110/3
 1\, Mariánské Lázně\, Česká republika
X-APPLE-STRUCTURED-LOCATION;VALUE=URI;X-ADDRESS=Goethovo náměstí 110/31\
 , Mariánské Lázně\, Česká republika;X-APPLE-RADIUS=100;X-TITLE=Farn
 í kostel Nanebevzetí Panny Marie:geo:0,0
END:VEVENT
BEGIN:VTIMEZONE
TZID:Europe/Prague
X-LIC-LOCATION:Europe/Prague
BEGIN:STANDARD
DTSTART:20241027T020000
TZOFFSETFROM:+0200
TZOFFSETTO:+0100
TZNAME:CET
END:STANDARD
END:VTIMEZONE
END:VCALENDAR