BEGIN:VCALENDAR
VERSION:2.0
PRODID:-//wp-events-plugin.com//7.2.3.1//EN
TZID:Europe/Prague
X-WR-TIMEZONE:Europe/Prague
BEGIN:VEVENT
UID:934@farnostml.cz
DTSTART;TZID=Europe/Prague:20191103T140000
DTEND;TZID=Europe/Prague:20191103T140000
DTSTAMP:20190926T152326Z
URL:https://www.farnostml.cz/udalosti/ekumenicka-modlitba-za-zemrele/
SUMMARY:Ekumenická modlitba za zemřelé
DESCRIPTION:
CATEGORIES:Ekumenická bohoslužba,Modlitba
LOCATION:Hřbitov\, 658\, Mariánské Lázně\, Česká republika
X-APPLE-STRUCTURED-LOCATION;VALUE=URI;X-ADDRESS=658\, Mariánské Lázně\,
  Česká republika;X-APPLE-RADIUS=100;X-TITLE=Hřbitov:geo:0,0
END:VEVENT
BEGIN:VTIMEZONE
TZID:Europe/Prague
X-LIC-LOCATION:Europe/Prague
BEGIN:STANDARD
DTSTART:20191027T020000
TZOFFSETFROM:+0200
TZOFFSETTO:+0100
TZNAME:CET
END:STANDARD
END:VTIMEZONE
END:VCALENDAR