BEGIN:VCALENDAR
VERSION:2.0
PRODID:-//wp-events-plugin.com//7.2.3.1//EN
TZID:Europe/Prague
X-WR-TIMEZONE:Europe/Prague
BEGIN:VEVENT
UID:6000@farnostml.cz
DTSTART;TZID=Europe/Prague:20241103T140000
DTEND;TZID=Europe/Prague:20241103T140000
DTSTAMP:20241002T221430Z
URL:https://www.farnostml.cz/udalosti/ekumenicka-poboznost-za-zemrele-2/
SUMMARY:Ekumenická pobožnost za zemřelé
DESCRIPTION:
CATEGORIES:Ekumenická bohoslužba,Modlitba,Zádušní bohoslužba
LOCATION:Hřbitov\, 658\, Mariánské Lázně\, Česká republika
X-APPLE-STRUCTURED-LOCATION;VALUE=URI;X-ADDRESS=658\, Mariánské Lázně\,
  Česká republika;X-APPLE-RADIUS=100;X-TITLE=Hřbitov:geo:0,0
END:VEVENT
BEGIN:VTIMEZONE
TZID:Europe/Prague
X-LIC-LOCATION:Europe/Prague
BEGIN:STANDARD
DTSTART:20241027T020000
TZOFFSETFROM:+0200
TZOFFSETTO:+0100
TZNAME:CET
END:STANDARD
END:VTIMEZONE
END:VCALENDAR