BEGIN:VCALENDAR
VERSION:2.0
PRODID:-//wp-events-plugin.com//7.2.3.1//EN
TZID:Europe/Prague
X-WR-TIMEZONE:Europe/Prague
BEGIN:VEVENT
UID:1795@farnostml.cz
DTSTART;TZID=Europe/Prague:20200307T134500
DTEND;TZID=Europe/Prague:20200307T170000
DTSTAMP:20200229T213110Z
URL:https://www.farnostml.cz/udalosti/farni-postni-rekolekce/
SUMMARY:Farní postní rekolekce
DESCRIPTION:Vede P. Jakub Holík\, generální vikář plzeňské diecéze.
 \n13:45 úvodní slovo a přednáška\n14:30 občerstvení\n15:15 předná
 ška\n16:00-17:00 adorace a příležitost ke svátosti smíření\n17:30 
 mše svatá ve farním kostele
CATEGORIES:Přednáška
LOCATION:Fara\, Nehrova 26/3a\, Mariánské Lázně\, Česká republika
X-APPLE-STRUCTURED-LOCATION;VALUE=URI;X-ADDRESS=Nehrova 26/3a\, Mariánské
  Lázně\, Česká republika;X-APPLE-RADIUS=100;X-TITLE=Fara:geo:0,0
END:VEVENT
BEGIN:VTIMEZONE
TZID:Europe/Prague
X-LIC-LOCATION:Europe/Prague
BEGIN:STANDARD
DTSTART:20191027T020000
TZOFFSETFROM:+0200
TZOFFSETTO:+0100
TZNAME:CET
END:STANDARD
END:VTIMEZONE
END:VCALENDAR